BEGIN:VCALENDAR
VERSION:2.0
PRODID:VSD-Portal-www.volley.de
METHOD:PUBLISH
BEGIN:VEVENT
UID:562383-2da69939ed67427dc6bf3daba21059e9
X-WR-RELCALID:562383-2da69939ed67427dc6bf3daba21059e9
ORGANIZER:Volleyball
SEQUENCE:261111027
LOCATION:SH Gymnasium Am Thie, Blankenburg, SH Gymnasium Am Thie, 0  B
 lankenburg
GEO:51.79585266113281000000;10.95718383789062500000
SUMMARY:LL N Fr.: Blankenburger VF - Oscherslebener SC
CLASS:PUBLIC
DTSTART:20201206T090000Z
DTSTAMP:20200824T155900Z
END:VEVENT
END:VCALENDAR