BEGIN:VCALENDAR
VERSION:2.0
PRODID:VSD-Portal-www.volley.de
METHOD:PUBLISH
BEGIN:VEVENT
UID:562526-2da69939ed67427dc6bf3daba21059e9
X-WR-RELCALID:562526-2da69939ed67427dc6bf3daba21059e9
ORGANIZER:Volleyball
SEQUENCE:261141359
SUMMARY:LL S Fr.: VC Bitterfeld-Wolfen III - SG Merseburg/Leuna
CLASS:PUBLIC
DTSTART:20201206T090000Z
DTSTAMP:20200824T160000Z
END:VEVENT
END:VCALENDAR