BEGIN:VCALENDAR
VERSION:2.0
PRODID:VSD-Portal-www.volley.de
METHOD:PUBLISH
BEGIN:VEVENT
UID:562548-2da69939ed67427dc6bf3daba21059e9
X-WR-RELCALID:562548-2da69939ed67427dc6bf3daba21059e9
ORGANIZER:Volleyball
SEQUENCE:261141548
LOCATION:Universitätssporthalle, Halle, Universitätssporthalle, 0  Hal
 le
GEO:51.48787689208984400000;11.93994426727295000000
SUMMARY:LL S Fr.: USV Halle III - SG Merseburg/Leuna
CLASS:PUBLIC
DTSTART:20210221T090000Z
DTSTAMP:20200824T160000Z
END:VEVENT
END:VCALENDAR