BEGIN:VCALENDAR
VERSION:2.0
PRODID:VSD-Portal-www.volley.de
METHOD:PUBLISH
BEGIN:VEVENT
UID:562617-2da69939ed67427dc6bf3daba21059e9
X-WR-RELCALID:562617-2da69939ed67427dc6bf3daba21059e9
ORGANIZER:Volleyball
SEQUENCE:261141858
SUMMARY:LL S O Mä.: SG Merseburg/Leuna - VV 1984 Kleinpaschleben
CLASS:PUBLIC
DTSTART:20210314T090000Z
DTSTAMP:20200824T160000Z
END:VEVENT
END:VCALENDAR