BEGIN:VCALENDAR
VERSION:2.0
PRODID:VSD-Portal-www.volley.de
METHOD:PUBLISH
BEGIN:VEVENT
UID:568774-2da69939ed67427dc6bf3daba21059e9
X-WR-RELCALID:568774-2da69939ed67427dc6bf3daba21059e9
ORGANIZER:Volleyball
SEQUENCE:261141357
LOCATION:156, Tempelhof, 156, 0  Tempelhof
GEO:52.46949386596680000000;13.38560009002685500000
SUMMARY:BKl B Fr.: TSV Tempelhof/Mariendorf IV - TSV Spandau III
CLASS:PUBLIC
DTSTART:20201101T090000Z
DTSTAMP:20200910T174500Z
END:VEVENT
END:VCALENDAR