BEGIN:VCALENDAR
VERSION:2.0
PRODID:VSD-Portal-www.volley.de
METHOD:PUBLISH
BEGIN:VEVENT
UID:568777-2da69939ed67427dc6bf3daba21059e9
X-WR-RELCALID:568777-2da69939ed67427dc6bf3daba21059e9
ORGANIZER:Volleyball
SEQUENCE:261141902
LOCATION:113, Mitte, 113, 0  Mitte
GEO:52.53728866577148400000;13.36027431488037100000
SUMMARY:BKl B Fr.: VC Rotation Mitte III - Charlottenburger TSV 58 I
CLASS:PUBLIC
DTSTART:20201031T130000Z
DTSTAMP:20200910T174500Z
END:VEVENT
END:VCALENDAR