BEGIN:VCALENDAR
VERSION:2.0
PRODID:VSD-Portal-www.volley.de
METHOD:PUBLISH
BEGIN:VEVENT
UID:568801-2da69939ed67427dc6bf3daba21059e9
X-WR-RELCALID:568801-2da69939ed67427dc6bf3daba21059e9
ORGANIZER:Volleyball
SEQUENCE:261141549
LOCATION:218, Baumschulenweg, 218, 0  Baumschulenweg
GEO:52.46084213256836000000;13.48130702972412100000
SUMMARY:BKl B Fr.: BBSC V - Marzahner VC II
CLASS:PUBLIC
DTSTART:20201129T080000Z
DTSTAMP:20200910T174500Z
END:VEVENT
END:VCALENDAR