BEGIN:VCALENDAR
VERSION:2.0
PRODID:VSD-Portal-www.volley.de
METHOD:PUBLISH
BEGIN:VEVENT
UID:568812-2da69939ed67427dc6bf3daba21059e9
X-WR-RELCALID:568812-2da69939ed67427dc6bf3daba21059e9
ORGANIZER:Volleyball
SEQUENCE:261110112
LOCATION:147, Lichtenberg, 147, 0  Lichtenberg
GEO:52.53359222412109400000;13.49985790252685500000
SUMMARY:BKl B Fr.: TSV Rudow III - BBSC V
CLASS:PUBLIC
DTSTART:20201212T130000Z
DTSTAMP:20200910T174500Z
END:VEVENT
END:VCALENDAR