BEGIN:VCALENDAR
VERSION:2.0
PRODID:VSD-Portal-www.volley.de
METHOD:PUBLISH
BEGIN:VEVENT
UID:568849-2da69939ed67427dc6bf3daba21059e9
X-WR-RELCALID:568849-2da69939ed67427dc6bf3daba21059e9
ORGANIZER:Volleyball
SEQUENCE:261150206
LOCATION:130, Prenzlauer Berg, 130, 0  Prenzlauer Berg
GEO:52.53917694091797000000;13.42420768737793000000
SUMMARY:BKl B Fr.: Rotation Prenzlauer Berg VII - BBSC V
CLASS:PUBLIC
DTSTART:20210221T080000Z
DTSTAMP:20200910T174500Z
END:VEVENT
END:VCALENDAR