BEGIN:VCALENDAR
VERSION:2.0
PRODID:VSD-Portal-www.volley.de
METHOD:PUBLISH
BEGIN:VEVENT
UID:569012-2da69939ed67427dc6bf3daba21059e9
X-WR-RELCALID:569012-2da69939ed67427dc6bf3daba21059e9
ORGANIZER:Volleyball
SEQUENCE:261142036
LOCATION:160, Hohenschönhausen, 160, 0  Hohenschönhausen
GEO:52.54856109619140600000;13.50849342346191400000
SUMMARY:BL Fr.: VC Preußen II - BFC Preussen
CLASS:PUBLIC
DTSTART:20210417T120000Z
DTSTAMP:20200910T174500Z
END:VEVENT
END:VCALENDAR