BEGIN:VCALENDAR
VERSION:2.0
PRODID:VSD-Portal-www.volley.de
METHOD:PUBLISH
BEGIN:VEVENT
UID:564810-2da69939ed67427dc6bf3daba21059e9
X-WR-RELCALID:564810-2da69939ed67427dc6bf3daba21059e9
ORGANIZER:Volleyball
SEQUENCE:261141544
LOCATION:Mehrzweckhalle Weststadt  früher Ballspielhalle, Ulm, Mehrzwe
 ckhalle Weststadt  früher Ballspielhalle, 0  Ulm
GEO:48.39006042480469000000;9.96227455139160200000
SUMMARY:B-Kl. 1 S Fr.: VfB Ulm 3 - TG Biberach 3
CLASS:PUBLIC
DTSTART:20210327T130000Z
DTSTAMP:20200826T183700Z
END:VEVENT
END:VCALENDAR