BEGIN:VCALENDAR
VERSION:2.0
PRODID:VSD-Portal-www.volley.de
METHOD:PUBLISH
BEGIN:VEVENT
UID:566198-2da69939ed67427dc6bf3daba21059e9
X-WR-RELCALID:566198-2da69939ed67427dc6bf3daba21059e9
ORGANIZER:Volleyball
SEQUENCE:261141401
LOCATION:Mehrzweckhalle Lockweiler, Wadern-Lockweiler, Mehrzweckhalle 
 Lockweiler, 0  Wadern-Lockweiler
GEO:49.52825546264648400000;6.92733335494995100000
SUMMARY:VL Fr.: TV Lockweiler-Krettnich - TV 06 Limbach
CLASS:PUBLIC
DTSTART:20201031T130000Z
DTSTAMP:20200918T214500Z
END:VEVENT
END:VCALENDAR