BEGIN:VCALENDAR
VERSION:2.0
PRODID:VSD-Portal-www.volley.de
METHOD:PUBLISH
BEGIN:VEVENT
UID:566271-2da69939ed67427dc6bf3daba21059e9
X-WR-RELCALID:566271-2da69939ed67427dc6bf3daba21059e9
ORGANIZER:Volleyball
SEQUENCE:261110636
LOCATION:Knappenroth Halle, Saarbrücken, Knappenroth Halle, 0  Saarbrü
 cken
GEO:49.25142669677734400000;6.96788692474365200000
SUMMARY:VL Fr.: DJK Saarbrücken/Rastpfuhl - TV Kirkel
CLASS:PUBLIC
DTSTART:20201128T140000Z
DTSTAMP:20200828T173000Z
END:VEVENT
END:VCALENDAR