BEGIN:VCALENDAR
VERSION:2.0
PRODID:VSD-Portal-www.volley.de
METHOD:PUBLISH
BEGIN:VEVENT
UID:566274-2da69939ed67427dc6bf3daba21059e9
X-WR-RELCALID:566274-2da69939ed67427dc6bf3daba21059e9
ORGANIZER:Volleyball
SEQUENCE:261101406
LOCATION:Dorfhalle, Kirkel-Limbach, Dorfhalle, 0  Kirkel-Limbach
GEO:49.31307220458984400000;7.27301502227783200000
SUMMARY:VL Fr.: TV 06 Limbach - SC Hasborn
CLASS:PUBLIC
DTSTART:20201107T140000Z
DTSTAMP:20201008T160000Z
END:VEVENT
BEGIN:VEVENT
UID:566275-2da69939ed67427dc6bf3daba21059e9
X-WR-RELCALID:566275-2da69939ed67427dc6bf3daba21059e9
ORGANIZER:Volleyball
SEQUENCE:261101406
LOCATION:Dorfhalle, Kirkel-Limbach, Dorfhalle, 0  Kirkel-Limbach
GEO:49.31307220458984400000;7.27301502227783200000
SUMMARY:VL Fr.: TV 06 Limbach - TV Quierschied
CLASS:PUBLIC
DTSTART:20201107T140000Z
DTSTAMP:20201008T160000Z
END:VEVENT
BEGIN:VEVENT
UID:566278-2da69939ed67427dc6bf3daba21059e9
X-WR-RELCALID:566278-2da69939ed67427dc6bf3daba21059e9
ORGANIZER:Volleyball
SEQUENCE:261101406
LOCATION:Schulturnhalle Kirkel-Limbach, Kirkel-Limbach, Schulturnhalle
  Kirkel-Limbach, 0  Kirkel-Limbach
GEO:49.31468200683594000000;7.27256298065185550000
SUMMARY:VL Fr.: TV 06 Limbach - SSC Freisen 2
CLASS:PUBLIC
DTSTART:20201212T140000Z
DTSTAMP:20200826T185500Z
END:VEVENT
BEGIN:VEVENT
UID:566279-2da69939ed67427dc6bf3daba21059e9
X-WR-RELCALID:566279-2da69939ed67427dc6bf3daba21059e9
ORGANIZER:Volleyball
SEQUENCE:261101406
LOCATION:Schulturnhalle Kirkel-Limbach, Kirkel-Limbach, Schulturnhalle
  Kirkel-Limbach, 0  Kirkel-Limbach
GEO:49.31468200683594000000;7.27256298065185550000
SUMMARY:VL Fr.: TV 06 Limbach - DJK Saarbrücken/Rastpfuhl
CLASS:PUBLIC
DTSTART:20201212T140000Z
DTSTAMP:20200826T185500Z
END:VEVENT
BEGIN:VEVENT
UID:566298-2da69939ed67427dc6bf3daba21059e9
X-WR-RELCALID:566298-2da69939ed67427dc6bf3daba21059e9
ORGANIZER:Volleyball
SEQUENCE:261101406
LOCATION:Dorfhalle, Kirkel-Limbach, Dorfhalle, 0  Kirkel-Limbach
GEO:49.31307220458984400000;7.27301502227783200000
SUMMARY:VL Fr.: TV 06 Limbach - TL Hüttersdorf
CLASS:PUBLIC
DTSTART:20210130T140000Z
DTSTAMP:20201008T160000Z
END:VEVENT
BEGIN:VEVENT
UID:566299-2da69939ed67427dc6bf3daba21059e9
X-WR-RELCALID:566299-2da69939ed67427dc6bf3daba21059e9
ORGANIZER:Volleyball
SEQUENCE:261101406
LOCATION:Dorfhalle, Kirkel-Limbach, Dorfhalle, 0  Kirkel-Limbach
GEO:49.31307220458984400000;7.27301502227783200000
SUMMARY:VL Fr.: TV 06 Limbach - VSG Saarlouis 2
CLASS:PUBLIC
DTSTART:20210130T140000Z
DTSTAMP:20201008T160000Z
END:VEVENT
BEGIN:VEVENT
UID:566304-2da69939ed67427dc6bf3daba21059e9
X-WR-RELCALID:566304-2da69939ed67427dc6bf3daba21059e9
ORGANIZER:Volleyball
SEQUENCE:261101406
LOCATION:Dorfhalle, Kirkel-Limbach, Dorfhalle, 0  Kirkel-Limbach
GEO:49.31307220458984400000;7.27301502227783200000
SUMMARY:VL Fr.: TV 06 Limbach - TV Lockweiler-Krettnich
CLASS:PUBLIC
DTSTART:20210206T140000Z
DTSTAMP:20201008T160000Z
END:VEVENT
BEGIN:VEVENT
UID:566305-2da69939ed67427dc6bf3daba21059e9
X-WR-RELCALID:566305-2da69939ed67427dc6bf3daba21059e9
ORGANIZER:Volleyball
SEQUENCE:261101406
LOCATION:Dorfhalle, Kirkel-Limbach, Dorfhalle, 0  Kirkel-Limbach
GEO:49.31307220458984400000;7.27301502227783200000
SUMMARY:VL Fr.: TV 06 Limbach - TV Kirkel
CLASS:PUBLIC
DTSTART:20210206T140000Z
DTSTAMP:20201008T160000Z
END:VEVENT
END:VCALENDAR