BEGIN:VCALENDAR
VERSION:2.0
PRODID:VSD-Portal-www.volley.de
METHOD:PUBLISH
BEGIN:VEVENT
UID:568026-2da69939ed67427dc6bf3daba21059e9
X-WR-RELCALID:568026-2da69939ed67427dc6bf3daba21059e9
ORGANIZER:Volleyball
SEQUENCE:261111128
LOCATION:Stauffenberg-Schule, Rodgau - Dudenhofen, Stauffenberg-Schule
 , 0  Rodgau - Dudenhofen
GEO:50.01168060302734400000;8.88020992279052700000
SUMMARY:S-KL Fr.: TSV Dudenhofen - TUS Griesheim 2
CLASS:PUBLIC
DTSTART:20201025T101000Z
DTSTAMP:20200905T104500Z
END:VEVENT
END:VCALENDAR