BEGIN:VCALENDAR
VERSION:2.0
PRODID:VSD-Portal-www.volley.de
METHOD:PUBLISH
BEGIN:VEVENT
UID:573083-2da69939ed67427dc6bf3daba21059e9
X-WR-RELCALID:573083-2da69939ed67427dc6bf3daba21059e9
ORGANIZER:Volleyball
SEQUENCE:261110504
LOCATION:Staatl. Regelschule Altenst. Oberland, Heinrich-Mann-Str. 32,
  36448 Bad Liebenstein
GEO:50.81138000000000000000;10.35273000000000000000
SUMMARY:BL S O-S W Mä.: 1. Sonneberger VC 2004  II - Volleybären Helli
 ngen
CLASS:PUBLIC
DTSTART:20211211T100000Z
DTSTAMP:20210813T185100Z
END:VEVENT
END:VCALENDAR