BEGIN:VCALENDAR
VERSION:2.0
PRODID:VSD-Portal-www.volley.de
METHOD:PUBLISH
BEGIN:VEVENT
UID:170469-0b1cb5f82de24c98f11e829bddb1f0f9
X-WR-RELCALID:170469-0b1cb5f82de24c98f11e829bddb1f0f9
ORGANIZER:Volleyball
SEQUENCE:261111115
LOCATION:Turnhalle Katzwang, Katzwanger Hauptstraße 21, 90453 Nürnberg
 
GEO:49.35562034972106500000;11.05219145767205200000
SUMMARY:KL 2 Mi.: Freibier an der Info - ASV Möhrendorf - Hot Soxs - A
 SV Möhrendorf
CLASS:PUBLIC
DTSTART:20161127T090000Z
DTSTAMP:20161127T150600Z
END:VEVENT
BEGIN:VEVENT
UID:170470-0b1cb5f82de24c98f11e829bddb1f0f9
X-WR-RELCALID:170470-0b1cb5f82de24c98f11e829bddb1f0f9
ORGANIZER:Volleyball
SEQUENCE:261111115
LOCATION:Turnhalle Katzwang, Katzwanger Hauptstraße 21, 90453 Nürnberg
 
GEO:49.35562034972106500000;11.05219145767205200000
SUMMARY:KL 2 Mi.: Freibier an der Info - ASV Möhrendorf - Hobbybatsche
 r - TV 06 Thalmässing
CLASS:PUBLIC
DTSTART:20161127T103000Z
DTSTAMP:20161127T150800Z
END:VEVENT
BEGIN:VEVENT
UID:170472-0b1cb5f82de24c98f11e829bddb1f0f9
X-WR-RELCALID:170472-0b1cb5f82de24c98f11e829bddb1f0f9
ORGANIZER:Volleyball
SEQUENCE:261111115
LOCATION:Turnhalle Katzwang, Katzwanger Hauptstraße 21, 90453 Nürnberg
 
GEO:49.35562034972106500000;11.05219145767205200000
SUMMARY:KL 2 Mi.: Freibier an der Info - ASV Möhrendorf - Sechs und a 
 Halbe - TSG 08 Roth
CLASS:PUBLIC
DTSTART:20161127T133000Z
DTSTAMP:20161127T151200Z
END:VEVENT
BEGIN:VEVENT
UID:170481-0b1cb5f82de24c98f11e829bddb1f0f9
X-WR-RELCALID:170481-0b1cb5f82de24c98f11e829bddb1f0f9
ORGANIZER:Volleyball
SEQUENCE:261111115
LOCATION:Hans-Sachs-Gymnasium, Löbleinstraße 10, 90409 Nürnberg
GEO:49.46318870430547000000;11.08619438294226700000
SUMMARY:KL 2 Mi.: Freibier an der Info - ASV Möhrendorf - Schmetterman
 n's Friends - SV Bubenreuth
CLASS:PUBLIC
DTSTART:20170219T090000Z
DTSTAMP:20170219T174400Z
END:VEVENT
BEGIN:VEVENT
UID:170483-0b1cb5f82de24c98f11e829bddb1f0f9
X-WR-RELCALID:170483-0b1cb5f82de24c98f11e829bddb1f0f9
ORGANIZER:Volleyball
SEQUENCE:261111115
LOCATION:Hans-Sachs-Gymnasium, Löbleinstraße 10, 90409 Nürnberg
GEO:49.46318870430547000000;11.08619438294226700000
SUMMARY:KL 2 Mi.: Freibier an der Info - ASV Möhrendorf - Bloxxt Nix -
  TSV Altenfurt
CLASS:PUBLIC
DTSTART:20170219T120000Z
DTSTAMP:20170219T174600Z
END:VEVENT
BEGIN:VEVENT
UID:170484-0b1cb5f82de24c98f11e829bddb1f0f9
X-WR-RELCALID:170484-0b1cb5f82de24c98f11e829bddb1f0f9
ORGANIZER:Volleyball
SEQUENCE:261111115
LOCATION:Hans-Sachs-Gymnasium, Löbleinstraße 10, 90409 Nürnberg
GEO:49.46318870430547000000;11.08619438294226700000
SUMMARY:KL 2 Mi.: Freibier an der Info - ASV Möhrendorf - Smashed Pota
 toes - VfL Nürnberg
CLASS:PUBLIC
DTSTART:20170219T133000Z
DTSTAMP:20170219T174800Z
END:VEVENT
BEGIN:VEVENT
UID:170490-0b1cb5f82de24c98f11e829bddb1f0f9
X-WR-RELCALID:170490-0b1cb5f82de24c98f11e829bddb1f0f9
ORGANIZER:Volleyball
SEQUENCE:261111115
SUMMARY:KL 2 Mi.: Blockbusters - SG TSV DJK Herrieden - Freibier an de
 r Info - ASV Möhrendorf
CLASS:PUBLIC
DTSTART:20170319T103000Z
DTSTAMP:20170319T162800Z
END:VEVENT
BEGIN:VEVENT
UID:170492-0b1cb5f82de24c98f11e829bddb1f0f9
X-WR-RELCALID:170492-0b1cb5f82de24c98f11e829bddb1f0f9
ORGANIZER:Volleyball
SEQUENCE:261111115
SUMMARY:KL 2 Mi.: Freibier an der Info - ASV Möhrendorf - Wöhrder Wies
 'n Rambos
CLASS:PUBLIC
DTSTART:20170319T133000Z
DTSTAMP:20170319T163500Z
END:VEVENT
END:VCALENDAR