BEGIN:VCALENDAR
VERSION:2.0
PRODID:VSD-Portal-www.volley.de
METHOD:PUBLISH
BEGIN:VEVENT
UID:576242-2da69939ed67427dc6bf3daba21059e9
X-WR-RELCALID:576242-2da69939ed67427dc6bf3daba21059e9
ORGANIZER:Volleyball
SEQUENCE:261120526
LOCATION:Gymnasium Elmschenhagen II, Allgäuer Str. 30, 24146 Kiel
GEO:54.29150800000000000000;10.19280200000000000000
SUMMARY:LL Fr.: Kieler TV 4 - TSV Vorwärts Hademarschen
CLASS:PUBLIC
DTSTART:20220115T140000Z
DTSTAMP:20220112T090000Z
END:VEVENT
END:VCALENDAR