BEGIN:VCALENDAR
VERSION:2.0
PRODID:VSD-Portal-www.volley.de
METHOD:PUBLISH
BEGIN:VEVENT
UID:581846-2da69939ed67427dc6bf3daba21059e9
X-WR-RELCALID:581846-2da69939ed67427dc6bf3daba21059e9
ORGANIZER:Volleyball
SEQUENCE:261100544
LOCATION:Geschwister-Scholl-GS (Sporthalle), Grätzelstraße, 37079 Gött
 ingen
GEO:51.54249790000000000000;9.90742860000000000000
SUMMARY:VL 3 Fr.: TWG Göttingen - VfL Wolfsburg
CLASS:PUBLIC
DTSTART:20211113T140000Z
DTSTAMP:20210822T124400Z
END:VEVENT
BEGIN:VEVENT
UID:581851-2da69939ed67427dc6bf3daba21059e9
X-WR-RELCALID:581851-2da69939ed67427dc6bf3daba21059e9
ORGANIZER:Volleyball
SEQUENCE:261100544
LOCATION:Sporthalle Amselstieg, Amselstieg, 38226 Salzgitter-Lebensted
 t
GEO:52.16381240000000000000;10.33871100000000000000
SUMMARY:VL 3 Fr.: MTV Salzgitter - VfL Wolfsburg
CLASS:PUBLIC
DTSTART:20211127T150000Z
DTSTAMP:20211008T093500Z
END:VEVENT
BEGIN:VEVENT
UID:581861-2da69939ed67427dc6bf3daba21059e9
X-WR-RELCALID:581861-2da69939ed67427dc6bf3daba21059e9
ORGANIZER:Volleyball
SEQUENCE:261100544
LOCATION:Grundschule Alt-Wolfsburg, Am Lerchengarten 30, 38448 Wolfsbu
 rg
GEO:52.44590730000000000000;10.80034110000000000000
SUMMARY:VL 3 Fr.: VfL Wolfsburg - TSV Giesen GRIZZLYS
CLASS:PUBLIC
DTSTART:20220410T090000Z
DTSTAMP:20220403T112500Z
END:VEVENT
BEGIN:VEVENT
UID:581879-2da69939ed67427dc6bf3daba21059e9
X-WR-RELCALID:581879-2da69939ed67427dc6bf3daba21059e9
ORGANIZER:Volleyball
SEQUENCE:261100544
LOCATION:Grundschule Alt-Wolfsburg, Am Lerchengarten 30, 38448 Wolfsbu
 rg
GEO:52.44590730000000000000;10.80034110000000000000
SUMMARY:VL 3 Fr.: VfL Wolfsburg - PSV Hannover
CLASS:PUBLIC
DTSTART:20220423T130000Z
DTSTAMP:20220411T181500Z
END:VEVENT
BEGIN:VEVENT
UID:581872-2da69939ed67427dc6bf3daba21059e9
X-WR-RELCALID:581872-2da69939ed67427dc6bf3daba21059e9
ORGANIZER:Volleyball
SEQUENCE:261100544
LOCATION:Mahnte-Sporthalle, Berliner Straße 6, 37412 Herzberg
GEO:51.66336370000000000000;10.34109730000000000000
SUMMARY:VL 3 Fr.: VT Südharz - VfL Wolfsburg
CLASS:PUBLIC
DTSTART:20220501T090000Z
DTSTAMP:20220401T080000Z
END:VEVENT
BEGIN:VEVENT
UID:581860-2da69939ed67427dc6bf3daba21059e9
X-WR-RELCALID:581860-2da69939ed67427dc6bf3daba21059e9
ORGANIZER:Volleyball
SEQUENCE:261100544
LOCATION:Mahnte-Sporthalle, Berliner Straße 6, 37412 Herzberg
GEO:51.66336370000000000000;10.34109730000000000000
SUMMARY:VL 3 Fr.: VfL Wolfsburg - TC Hameln
CLASS:PUBLIC
DTSTART:20220501T100000Z
DTSTAMP:20220401T120000Z
END:VEVENT
BEGIN:VEVENT
UID:581865-2da69939ed67427dc6bf3daba21059e9
X-WR-RELCALID:581865-2da69939ed67427dc6bf3daba21059e9
ORGANIZER:Volleyball
SEQUENCE:261100544
LOCATION:Kaiser-Wilhelm-Gymnasium, Lüerstraße, 30175 Hannover
GEO:52.37811830000000000000;9.76532930000000000000
SUMMARY:VL 3 Fr.: GfL Hannover II - VfL Wolfsburg
CLASS:PUBLIC
DTSTART:20220515T090000Z
DTSTAMP:20220325T153000Z
END:VEVENT
BEGIN:VEVENT
UID:581878-2da69939ed67427dc6bf3daba21059e9
X-WR-RELCALID:581878-2da69939ed67427dc6bf3daba21059e9
ORGANIZER:Volleyball
SEQUENCE:261100544
LOCATION:Grundschule Alt-Wolfsburg, Am Lerchengarten 30, 38448 Wolfsbu
 rg
GEO:52.44590730000000000000;10.80034110000000000000
SUMMARY:VL 3 Fr.: VfL Wolfsburg - SC Langenhagen II
CLASS:PUBLIC
DTSTART:20220516T170000Z
DTSTAMP:20220501T172500Z
END:VEVENT
END:VCALENDAR