BEGIN:VCALENDAR
VERSION:2.0
PRODID:VSD-Portal-www.volley.de
METHOD:PUBLISH
BEGIN:VEVENT
UID:589211-2da69939ed67427dc6bf3daba21059e9
X-WR-RELCALID:589211-2da69939ed67427dc6bf3daba21059e9
ORGANIZER:Volleyball
SEQUENCE:261110329
LOCATION:Mehrzweckhalle Ingoldingen, Ingoldingen, Mehrzweckhalle Ingol
 dingen, 0  Ingoldingen
GEO:48.02563858032226600000;9.74183368682861300000
SUMMARY:A-Kl. 1 S Fr.: SV Ing.Muttensweiler-St. - SSV Ulm 1846 2
CLASS:PUBLIC
DTSTART:20211009T120000Z
DTSTAMP:20211218T162500Z
END:VEVENT
BEGIN:VEVENT
UID:589220-2da69939ed67427dc6bf3daba21059e9
X-WR-RELCALID:589220-2da69939ed67427dc6bf3daba21059e9
ORGANIZER:Volleyball
SEQUENCE:261110329
LOCATION:Gemeindehalle Unlingen, Unlingen, Gemeindehalle Unlingen, 0  
 Unlingen
GEO:48.16961288452148400000;9.51991653442382800000
SUMMARY:A-Kl. 1 S Fr.: SV Unlingen - SSV Ulm 1846 2
CLASS:PUBLIC
DTSTART:20211024T090000Z
DTSTAMP:20211218T162500Z
END:VEVENT
BEGIN:VEVENT
UID:589229-2da69939ed67427dc6bf3daba21059e9
X-WR-RELCALID:589229-2da69939ed67427dc6bf3daba21059e9
ORGANIZER:Volleyball
SEQUENCE:261110329
LOCATION:Mehrzweckhalle Weststadt  früher Ballspielhalle, Ulm, Mehrzwe
 ckhalle Weststadt  früher Ballspielhalle, 0  Ulm
GEO:48.39006042480469000000;9.96227455139160200000
SUMMARY:A-Kl. 1 S Fr.: SSV Ulm 1846 2 - TG Biberach 2
CLASS:PUBLIC
DTSTART:20211107T100000Z
DTSTAMP:20211218T162500Z
END:VEVENT
BEGIN:VEVENT
UID:589230-2da69939ed67427dc6bf3daba21059e9
X-WR-RELCALID:589230-2da69939ed67427dc6bf3daba21059e9
ORGANIZER:Volleyball
SEQUENCE:261110329
LOCATION:Mehrzweckhalle Weststadt  früher Ballspielhalle, Ulm, Mehrzwe
 ckhalle Weststadt  früher Ballspielhalle, 0  Ulm
GEO:48.39006042480469000000;9.96227455139160200000
SUMMARY:A-Kl. 1 S Fr.: SSV Ulm 1846 2 - VfB Ulm 2
CLASS:PUBLIC
DTSTART:20211107T110000Z
DTSTAMP:20211218T162500Z
END:VEVENT
BEGIN:VEVENT
UID:589235-2da69939ed67427dc6bf3daba21059e9
X-WR-RELCALID:589235-2da69939ed67427dc6bf3daba21059e9
ORGANIZER:Volleyball
SEQUENCE:261110329
LOCATION:Mehrzweckhalle Weststadt  früher Ballspielhalle, Ulm, Mehrzwe
 ckhalle Weststadt  früher Ballspielhalle, 0  Ulm
GEO:48.39006042480469000000;9.96227455139160200000
SUMMARY:A-Kl. 1 S Fr.: SSV Ulm 1846 2 - TSV Langenau
CLASS:PUBLIC
DTSTART:20211121T100000Z
DTSTAMP:20211218T162500Z
END:VEVENT
BEGIN:VEVENT
UID:589236-2da69939ed67427dc6bf3daba21059e9
X-WR-RELCALID:589236-2da69939ed67427dc6bf3daba21059e9
ORGANIZER:Volleyball
SEQUENCE:261110329
LOCATION:Mehrzweckhalle Weststadt  früher Ballspielhalle, Ulm, Mehrzwe
 ckhalle Weststadt  früher Ballspielhalle, 0  Ulm
GEO:48.39006042480469000000;9.96227455139160200000
SUMMARY:A-Kl. 1 S Fr.: SSV Ulm 1846 2 - VSG Illertal
CLASS:PUBLIC
DTSTART:20211121T110000Z
DTSTAMP:20211218T162500Z
END:VEVENT
BEGIN:VEVENT
UID:589256-2da69939ed67427dc6bf3daba21059e9
X-WR-RELCALID:589256-2da69939ed67427dc6bf3daba21059e9
ORGANIZER:Volleyball
SEQUENCE:261110329
LOCATION:Blauringhalle, Ulm, Blauringhalle, 0  Ulm
GEO:48.39661788940430000000;9.97838401794433600000
SUMMARY:A-Kl. 1 S Fr.: SSV Ulm 1846 2 - SV Ing.Muttensweiler-St.
CLASS:PUBLIC
DTSTART:20220116T100000Z
DTSTAMP:20211218T162500Z
END:VEVENT
BEGIN:VEVENT
UID:589258-2da69939ed67427dc6bf3daba21059e9
X-WR-RELCALID:589258-2da69939ed67427dc6bf3daba21059e9
ORGANIZER:Volleyball
SEQUENCE:261110329
LOCATION:Blauringhalle, Ulm, Blauringhalle, 0  Ulm
GEO:48.39661788940430000000;9.97838401794433600000
SUMMARY:A-Kl. 1 S Fr.: SSV Ulm 1846 2 - SV Unlingen
CLASS:PUBLIC
DTSTART:20220116T110000Z
DTSTAMP:20211218T162500Z
END:VEVENT
BEGIN:VEVENT
UID:589239-2da69939ed67427dc6bf3daba21059e9
X-WR-RELCALID:589239-2da69939ed67427dc6bf3daba21059e9
ORGANIZER:Volleyball
SEQUENCE:261110329
LOCATION:Mehrzweckhalle, Laupheim, Mehrzweckhalle, 0  Laupheim
GEO:48.22379302978515600000;9.82650566101074200000
SUMMARY:A-Kl. 1 S Fr.: VC Baustetten 3 - SSV Ulm 1846 2
CLASS:PUBLIC
DTSTART:20220123T140000Z
DTSTAMP:20220119T170000Z
END:VEVENT
BEGIN:VEVENT
UID:589263-2da69939ed67427dc6bf3daba21059e9
X-WR-RELCALID:589263-2da69939ed67427dc6bf3daba21059e9
ORGANIZER:Volleyball
SEQUENCE:261110329
LOCATION:Wilhelm-Leger-Halle, Biberach, Wilhelm-Leger-Halle, 0  Bibera
 ch
GEO:48.09133911132812500000;9.79832935333252000000
SUMMARY:A-Kl. 1 S Fr.: TG Biberach 2 - SSV Ulm 1846 2
CLASS:PUBLIC
DTSTART:20220129T130000Z
DTSTAMP:20211218T162500Z
END:VEVENT
BEGIN:VEVENT
UID:589272-2da69939ed67427dc6bf3daba21059e9
X-WR-RELCALID:589272-2da69939ed67427dc6bf3daba21059e9
ORGANIZER:Volleyball
SEQUENCE:261110329
LOCATION:Blauringhalle, Ulm, Blauringhalle, 0  Ulm
GEO:48.39661788940430000000;9.97838401794433600000
SUMMARY:A-Kl. 1 S Fr.: VfB Ulm 2 - SSV Ulm 1846 2
CLASS:PUBLIC
DTSTART:20220213T100000Z
DTSTAMP:20211218T162500Z
END:VEVENT
BEGIN:VEVENT
UID:589278-2da69939ed67427dc6bf3daba21059e9
X-WR-RELCALID:589278-2da69939ed67427dc6bf3daba21059e9
ORGANIZER:Volleyball
SEQUENCE:261110329
LOCATION:Blauringhalle, Ulm, Blauringhalle, 0  Ulm
GEO:48.39661788940430000000;9.97838401794433600000
SUMMARY:A-Kl. 1 S Fr.: SSV Ulm 1846 2 - VC Baustetten 3
CLASS:PUBLIC
DTSTART:20220227T100000Z
DTSTAMP:20211218T162500Z
END:VEVENT
BEGIN:VEVENT
UID:589281-2da69939ed67427dc6bf3daba21059e9
X-WR-RELCALID:589281-2da69939ed67427dc6bf3daba21059e9
ORGANIZER:Volleyball
SEQUENCE:261110329
LOCATION:Pfleghofhalle, Langenau, Pfleghofhalle, 0  Langenau
GEO:48.49615859985351600000;10.12034416198730500000
SUMMARY:A-Kl. 1 S Fr.: TSV Langenau - SSV Ulm 1846 2
CLASS:PUBLIC
DTSTART:20220312T130000Z
DTSTAMP:20211218T162500Z
END:VEVENT
BEGIN:VEVENT
UID:589288-2da69939ed67427dc6bf3daba21059e9
X-WR-RELCALID:589288-2da69939ed67427dc6bf3daba21059e9
ORGANIZER:Volleyball
SEQUENCE:261110329
LOCATION:ASV Halle, Bellenberg, ASV Halle, 0  Bellenberg
GEO:48.25630569458008000000;10.07896137237548800000
SUMMARY:A-Kl. 1 S Fr.: VSG Illertal - SSV Ulm 1846 2
CLASS:PUBLIC
DTSTART:20220326T140000Z
DTSTAMP:20211218T162500Z
END:VEVENT
END:VCALENDAR