BEGIN:VCALENDAR
VERSION:2.0
PRODID:VSD-Portal-www.volley.de
METHOD:PUBLISH
BEGIN:VEVENT
UID:589785-2da69939ed67427dc6bf3daba21059e9
X-WR-RELCALID:589785-2da69939ed67427dc6bf3daba21059e9
ORGANIZER:Volleyball
SEQUENCE:261130809
LOCATION:Sporthalle Plieningen (beim Hallenbad), Stuttgart-Plieningen,
  Sporthalle Plieningen (beim Hallenbad), 0  Stuttgart-Plieningen
GEO:48.70875167846680000000;9.20524978637695300000
SUMMARY:B-Kl. 1 O Fr.: TSV Birkach - TB Neuffen
CLASS:PUBLIC
DTSTART:20211009T120000Z
DTSTAMP:20211216T154500Z
END:VEVENT
BEGIN:VEVENT
UID:589787-2da69939ed67427dc6bf3daba21059e9
X-WR-RELCALID:589787-2da69939ed67427dc6bf3daba21059e9
ORGANIZER:Volleyball
SEQUENCE:261130809
LOCATION:Sporthalle Plieningen (beim Hallenbad), Stuttgart-Plieningen,
  Sporthalle Plieningen (beim Hallenbad), 0  Stuttgart-Plieningen
GEO:48.70875167846680000000;9.20524978637695300000
SUMMARY:B-Kl. 1 O Fr.: TSV Birkach - SVL Kirchheim
CLASS:PUBLIC
DTSTART:20211009T120000Z
DTSTAMP:20211216T154500Z
END:VEVENT
BEGIN:VEVENT
UID:589831-2da69939ed67427dc6bf3daba21059e9
X-WR-RELCALID:589831-2da69939ed67427dc6bf3daba21059e9
ORGANIZER:Volleyball
SEQUENCE:261130809
LOCATION:Stuttgart Riedenberg, Stuttgart-Riedenberg, Stuttgart Riedenb
 erg, 0  Stuttgart-Riedenberg
GEO:48.73612976074219000000;9.21099376678466800000
SUMMARY:B-Kl. 1 O Fr.: TSV Birkach - SV 1845 Esslingen 3
CLASS:PUBLIC
DTSTART:20211218T093000Z
DTSTAMP:20211216T154500Z
END:VEVENT
BEGIN:VEVENT
UID:589861-2da69939ed67427dc6bf3daba21059e9
X-WR-RELCALID:589861-2da69939ed67427dc6bf3daba21059e9
ORGANIZER:Volleyball
SEQUENCE:261130809
LOCATION:Sporthalle Plieningen (beim Hallenbad), Stuttgart-Plieningen,
  Sporthalle Plieningen (beim Hallenbad), 0  Stuttgart-Plieningen
GEO:48.70875167846680000000;9.20524978637695300000
SUMMARY:B-Kl. 1 O Fr.: TSV Birkach - TV Cannstatt 1846 2
CLASS:PUBLIC
DTSTART:20220312T124500Z
DTSTAMP:20211216T154500Z
END:VEVENT
BEGIN:VEVENT
UID:589862-2da69939ed67427dc6bf3daba21059e9
X-WR-RELCALID:589862-2da69939ed67427dc6bf3daba21059e9
ORGANIZER:Volleyball
SEQUENCE:261130809
LOCATION:Sporthalle Plieningen (beim Hallenbad), Stuttgart-Plieningen,
  Sporthalle Plieningen (beim Hallenbad), 0  Stuttgart-Plieningen
GEO:48.70875167846680000000;9.20524978637695300000
SUMMARY:B-Kl. 1 O Fr.: TSV Birkach - TSV Bernhausen 2
CLASS:PUBLIC
DTSTART:20220312T124500Z
DTSTAMP:20211216T154500Z
END:VEVENT
END:VCALENDAR