BEGIN:VCALENDAR
VERSION:2.0
PRODID:VSD-Portal-www.volley.de
METHOD:PUBLISH
BEGIN:VEVENT
UID:7094-2da69939ed67427dc6bf3daba21059e9
X-WR-RELCALID:7094-2da69939ed67427dc6bf3daba21059e9
ORGANIZER:Volleyball
SEQUENCE:261131330
SUMMARY:BL 11 Mä.: VSG Sibbesse/Bodenburg - TSV Halle
CLASS:PUBLIC
DTSTART:20130928T130000Z
DTSTAMP:20140331T094000Z
END:VEVENT
BEGIN:VEVENT
UID:7095-2da69939ed67427dc6bf3daba21059e9
X-WR-RELCALID:7095-2da69939ed67427dc6bf3daba21059e9
ORGANIZER:Volleyball
SEQUENCE:261131330
SUMMARY:BL 11 Mä.: VSG Sibbesse/Bodenburg - TSV Giesen VI
CLASS:PUBLIC
DTSTART:20130928T130000Z
DTSTAMP:20140331T094000Z
END:VEVENT
BEGIN:VEVENT
UID:7096-2da69939ed67427dc6bf3daba21059e9
X-WR-RELCALID:7096-2da69939ed67427dc6bf3daba21059e9
ORGANIZER:Volleyball
SEQUENCE:261131330
SUMMARY:BL 11 Mä.: TSV Klein Berkel/Wangelist - VSG Sibbesse/Bodenburg
 
CLASS:PUBLIC
DTSTART:20131012T130000Z
DTSTAMP:20140331T094000Z
END:VEVENT
BEGIN:VEVENT
UID:7098-2da69939ed67427dc6bf3daba21059e9
X-WR-RELCALID:7098-2da69939ed67427dc6bf3daba21059e9
ORGANIZER:Volleyball
SEQUENCE:261131330
SUMMARY:BL 11 Mä.: MTV 48 Hildesheim II - VSG Sibbesse/Bodenburg
CLASS:PUBLIC
DTSTART:20131012T130000Z
DTSTAMP:20140331T094000Z
END:VEVENT
BEGIN:VEVENT
UID:7105-2da69939ed67427dc6bf3daba21059e9
X-WR-RELCALID:7105-2da69939ed67427dc6bf3daba21059e9
ORGANIZER:Volleyball
SEQUENCE:261131330
SUMMARY:BL 11 Mä.: VSG Sibbesse/Bodenburg - SG Alfeld/Banteln
CLASS:PUBLIC
DTSTART:20131026T130400Z
DTSTAMP:20140331T094000Z
END:VEVENT
BEGIN:VEVENT
UID:7115-2da69939ed67427dc6bf3daba21059e9
X-WR-RELCALID:7115-2da69939ed67427dc6bf3daba21059e9
ORGANIZER:Volleyball
SEQUENCE:261131330
SUMMARY:BL 11 Mä.: VSG Kemnade/Kirchbrak - VSG Sibbesse/Bodenburg
CLASS:PUBLIC
DTSTART:20131123T140200Z
DTSTAMP:20140331T094000Z
END:VEVENT
BEGIN:VEVENT
UID:7118-2da69939ed67427dc6bf3daba21059e9
X-WR-RELCALID:7118-2da69939ed67427dc6bf3daba21059e9
ORGANIZER:Volleyball
SEQUENCE:261131330
SUMMARY:BL 11 Mä.: VSG Düngen/Holle/Bodenburg III - VSG Sibbesse/Boden
 burg
CLASS:PUBLIC
DTSTART:20131201T090000Z
DTSTAMP:20140331T094000Z
END:VEVENT
BEGIN:VEVENT
UID:7119-2da69939ed67427dc6bf3daba21059e9
X-WR-RELCALID:7119-2da69939ed67427dc6bf3daba21059e9
ORGANIZER:Volleyball
SEQUENCE:261131330
SUMMARY:BL 11 Mä.: TSV Halle - VSG Sibbesse/Bodenburg
CLASS:PUBLIC
DTSTART:20131201T090200Z
DTSTAMP:20140331T094000Z
END:VEVENT
BEGIN:VEVENT
UID:7120-2da69939ed67427dc6bf3daba21059e9
X-WR-RELCALID:7120-2da69939ed67427dc6bf3daba21059e9
ORGANIZER:Volleyball
SEQUENCE:261131330
SUMMARY:BL 11 Mä.: VSG Sibbesse/Bodenburg - MTV 48 Hildesheim II
CLASS:PUBLIC
DTSTART:20131214T140000Z
DTSTAMP:20140331T094000Z
END:VEVENT
BEGIN:VEVENT
UID:7121-2da69939ed67427dc6bf3daba21059e9
X-WR-RELCALID:7121-2da69939ed67427dc6bf3daba21059e9
ORGANIZER:Volleyball
SEQUENCE:261131330
SUMMARY:BL 11 Mä.: VSG Sibbesse/Bodenburg - VSG Kemnade/Kirchbrak
CLASS:PUBLIC
DTSTART:20131214T140100Z
DTSTAMP:20140331T094000Z
END:VEVENT
BEGIN:VEVENT
UID:7132-2da69939ed67427dc6bf3daba21059e9
X-WR-RELCALID:7132-2da69939ed67427dc6bf3daba21059e9
ORGANIZER:Volleyball
SEQUENCE:261131330
SUMMARY:BL 11 Mä.: TSV Giesen VI - VSG Sibbesse/Bodenburg
CLASS:PUBLIC
DTSTART:20140118T130000Z
DTSTAMP:20140331T094000Z
END:VEVENT
BEGIN:VEVENT
UID:7138-2da69939ed67427dc6bf3daba21059e9
X-WR-RELCALID:7138-2da69939ed67427dc6bf3daba21059e9
ORGANIZER:Volleyball
SEQUENCE:261131330
SUMMARY:BL 11 Mä.: VSG Sibbesse/Bodenburg - VSG Düngen/Holle/Bodenburg
  III
CLASS:PUBLIC
DTSTART:20140208T140000Z
DTSTAMP:20140331T094000Z
END:VEVENT
BEGIN:VEVENT
UID:7137-2da69939ed67427dc6bf3daba21059e9
X-WR-RELCALID:7137-2da69939ed67427dc6bf3daba21059e9
ORGANIZER:Volleyball
SEQUENCE:261131330
SUMMARY:BL 11 Mä.: VSG Sibbesse/Bodenburg - TSV Klein Berkel/Wangelist
 
CLASS:PUBLIC
DTSTART:20140208T140100Z
DTSTAMP:20140331T094000Z
END:VEVENT
BEGIN:VEVENT
UID:7141-2da69939ed67427dc6bf3daba21059e9
X-WR-RELCALID:7141-2da69939ed67427dc6bf3daba21059e9
ORGANIZER:Volleyball
SEQUENCE:261131330
SUMMARY:BL 11 Mä.: SG Alfeld/Banteln - VSG Sibbesse/Bodenburg
CLASS:PUBLIC
DTSTART:20140222T140200Z
DTSTAMP:20140331T094000Z
END:VEVENT
END:VCALENDAR