BEGIN:VCALENDAR
VERSION:2.0
PRODID:VSD-Portal-www.volley.de
METHOD:PUBLISH
BEGIN:VEVENT
UID:593281-2da69939ed67427dc6bf3daba21059e9
X-WR-RELCALID:593281-2da69939ed67427dc6bf3daba21059e9
ORGANIZER:Volleyball
SEQUENCE:261120608
LOCATION:Heinrich-Mann-Gymnasium, Köln, Heinrich-Mann-Gymnasium, 0  Kö
 ln
GEO:51.01851654052734400000;6.88414239883422850000
SUMMARY:BKl 3 Fr.: DJK Wiking Köln - TFG Köln-Nippes II
CLASS:PUBLIC
DTSTART:20211030T101500Z
DTSTAMP:20211212T181100Z
END:VEVENT
BEGIN:VEVENT
UID:593298-2da69939ed67427dc6bf3daba21059e9
X-WR-RELCALID:593298-2da69939ed67427dc6bf3daba21059e9
ORGANIZER:Volleyball
SEQUENCE:261120608
LOCATION:Dreikönigsgymnasium, Köln, Dreikönigsgymnasium, 0  Köln
GEO:50.96660232543945000000;6.92894220352172850000
SUMMARY:BKl 3 Fr.: TFG Köln-Nippes II - SC Janus Köln
CLASS:PUBLIC
DTSTART:20211113T140000Z
DTSTAMP:20211212T181100Z
END:VEVENT
BEGIN:VEVENT
UID:593299-2da69939ed67427dc6bf3daba21059e9
X-WR-RELCALID:593299-2da69939ed67427dc6bf3daba21059e9
ORGANIZER:Volleyball
SEQUENCE:261120608
LOCATION:Dreikönigsgymnasium, Köln, Dreikönigsgymnasium, 0  Köln
GEO:50.96660232543945000000;6.92894220352172850000
SUMMARY:BKl 3 Fr.: TFG Köln-Nippes II - TSV Bayer 04 Leverkusen VI
CLASS:PUBLIC
DTSTART:20211113T151500Z
DTSTAMP:20211212T181100Z
END:VEVENT
BEGIN:VEVENT
UID:593304-2da69939ed67427dc6bf3daba21059e9
X-WR-RELCALID:593304-2da69939ed67427dc6bf3daba21059e9
ORGANIZER:Volleyball
SEQUENCE:261120608
LOCATION:Sporthalle Auf dem Schulberg, Burscheid, Sporthalle Auf dem S
 chulberg, 0  Burscheid
GEO:51.08092117309570000000;7.11076593399047850000
SUMMARY:BKl 3 Fr.: Burscheider TG - TFG Köln-Nippes II
CLASS:PUBLIC
DTSTART:20211212T140000Z
DTSTAMP:20211212T181100Z
END:VEVENT
BEGIN:VEVENT
UID:593309-2da69939ed67427dc6bf3daba21059e9
X-WR-RELCALID:593309-2da69939ed67427dc6bf3daba21059e9
ORGANIZER:Volleyball
SEQUENCE:261120608
LOCATION:Berufskolleg an der Lindenstrasse, Köln, Berufskolleg an der 
 Lindenstrasse, 0  Köln
GEO:50.93526840209961000000;6.93360424041748050000
SUMMARY:BKl 3 Fr.: SC Janus Köln - TFG Köln-Nippes II
CLASS:PUBLIC
DTSTART:20220129T100000Z
DTSTAMP:20211212T181100Z
END:VEVENT
BEGIN:VEVENT
UID:593314-2da69939ed67427dc6bf3daba21059e9
X-WR-RELCALID:593314-2da69939ed67427dc6bf3daba21059e9
ORGANIZER:Volleyball
SEQUENCE:261120608
LOCATION:Dreikönigsgymnasium, Köln, Dreikönigsgymnasium, 0  Köln
GEO:50.96660232543945000000;6.92894220352172850000
SUMMARY:BKl 3 Fr.: TFG Köln-Nippes II - Burscheider TG
CLASS:PUBLIC
DTSTART:20220219T140000Z
DTSTAMP:20211212T181100Z
END:VEVENT
BEGIN:VEVENT
UID:593320-2da69939ed67427dc6bf3daba21059e9
X-WR-RELCALID:593320-2da69939ed67427dc6bf3daba21059e9
ORGANIZER:Volleyball
SEQUENCE:261120608
LOCATION:Realschule Am Stadtpark, Leverkusen, Realschule Am Stadtpark,
  0  Leverkusen
GEO:51.03375244140625000000;6.99563646316528300000
SUMMARY:BKl 3 Fr.: TSV Bayer 04 Leverkusen VI - TFG Köln-Nippes II
CLASS:PUBLIC
DTSTART:20220327T101500Z
DTSTAMP:20220428T124500Z
END:VEVENT
BEGIN:VEVENT
UID:593315-2da69939ed67427dc6bf3daba21059e9
X-WR-RELCALID:593315-2da69939ed67427dc6bf3daba21059e9
ORGANIZER:Volleyball
SEQUENCE:261120608
LOCATION:Dreikönigsgymnasium, Köln, Dreikönigsgymnasium, 0  Köln
GEO:50.96660232543945000000;6.92894220352172850000
SUMMARY:BKl 3 Fr.: TFG Köln-Nippes II - DJK Wiking Köln
CLASS:PUBLIC
DTSTART:20220331T170000Z
DTSTAMP:20220328T131500Z
END:VEVENT
END:VCALENDAR